BEGIN:VCALENDAR
VERSION:2.0
PRODID:-//Better Together Housing - ECPv6.15.17.1//NONSGML v1.0//EN
CALSCALE:GREGORIAN
METHOD:PUBLISH
X-WR-CALNAME:Better Together Housing
X-ORIGINAL-URL:https://bettertogetherhousing.com.au
X-WR-CALDESC:Events for Better Together Housing
REFRESH-INTERVAL;VALUE=DURATION:PT1H
X-Robots-Tag:noindex
X-PUBLISHED-TTL:PT1H
BEGIN:VTIMEZONE
TZID:Australia/Brisbane
BEGIN:STANDARD
TZOFFSETFROM:+1000
TZOFFSETTO:+1000
TZNAME:AEST
DTSTART:20250101T000000
END:STANDARD
END:VTIMEZONE
BEGIN:VTIMEZONE
TZID:UTC
BEGIN:STANDARD
TZOFFSETFROM:+0000
TZOFFSETTO:+0000
TZNAME:UTC
DTSTART:20230101T000000
END:STANDARD
END:VTIMEZONE
BEGIN:VEVENT
DTSTART;TZID=Australia/Brisbane:20260122T100000
DTEND;TZID=Australia/Brisbane:20260122T113000
DTSTAMP:20260420T015842
CREATED:20260105T224614Z
LAST-MODIFIED:20260116T010647Z
UID:3399-1769076000-1769081400@bettertogetherhousing.com.au
SUMMARY:Maleny Get it Together 22/01/2026
DESCRIPTION:Better Together Housing is a program designed for women\, by women. It brings women over 55 together in a safe and secure way to find shared housing. \nWhere – Maleny Neighbourhood Centre – 17 Bicentenary Lane\, Maleny QLD 4552\nRSVP is essential by emailing us or through the RSVP button below  by Wednesday  21/01/2026. \nCome along for a cuppa and a chance to meet other Better Together members. \nGet it Togethers are for existing members to meet and consider sharing housing\, so please RSVP if you’re bringing a friend by emailing us at: info@bettertogetherhousing.com.au with the following details: \nName:\nEmail address:\nMobile number:\nAddress: \nThank you!
URL:https://bettertogetherhousing.com.au/event/maleny-get-it-together-22-01-2026/
LOCATION:Maleny Neighborhood Centre\, 17 Bicentenary Lane\, Maleny\, QLD\, 4552
CATEGORIES:Get it Togethers
ATTACH;FMTTYPE=image/png:https://bettertogetherhousing.com.au/wp-content/uploads/2026/01/22.1-Maleny-get-it-together-website.png
END:VEVENT
BEGIN:VEVENT
DTSTART;TZID=Australia/Brisbane:20260122T093000
DTEND;TZID=Australia/Brisbane:20260122T113000
DTSTAMP:20260420T015842
CREATED:20260116T003946Z
LAST-MODIFIED:20260116T003946Z
UID:3449-1769074200-1769081400@bettertogetherhousing.com.au
SUMMARY:Brisbane - Chermside - Get it Together 22/01/2026
DESCRIPTION:DID YOU KNOW – women over 55 years old are the fastest growing cohort of people experiencing homelessness in Australia with the Sunshine Coast experiencing a housing crisis at unprecedented levels. \nBetter Together Housing is a women-led program designed to help connect women to help find housing solutions together. It is for those who have a home to share\, are looking for a house to share or are interested in learning and connecting with like-minded women. \nCome join us for a coffee and get together in Chermside – to share ideas around supporting local women in finding housing solutions.\nWhen: Thursday 22nd of January 9:30am to 11:30am\nWhere: Chermside Library Meeting room 3\, 375 Hamilton Rd\, Chermside\nRSVP is essential by emailing us or clicking going below by Wednesday 21st of January 2026. \nCome along for a cuppa and a chance to meet other Better Together members. \nThank you!
URL:https://bettertogetherhousing.com.au/event/brisbane-chermside-get-it-together-22-01-2026/
LOCATION:Redcliffe Volunteer Hub\, 395 Oxley Avenue\, Redcliffe\, 4020\, Australia
CATEGORIES:Get it Togethers
ATTACH;FMTTYPE=image/png:https://bettertogetherhousing.com.au/wp-content/uploads/2026/01/22.01-Chermside-GIT-Web.png
ORGANIZER;CN="Better Together Housing":MAILTO:info@bettertogetherhousing.com.au
END:VEVENT
BEGIN:VEVENT
DTSTART;TZID=Australia/Brisbane:20260120T093000
DTEND;TZID=Australia/Brisbane:20260120T123000
DTSTAMP:20260420T015842
CREATED:20260105T224254Z
LAST-MODIFIED:20260105T224254Z
UID:3395-1768901400-1768912200@bettertogetherhousing.com.au
SUMMARY:Nambour Coffee Chat 20/01/2026
DESCRIPTION:DID YOU KNOW – women over 55 years old are the fastest growing cohort of people experiencing homelessness in Australia with the Sunshine Coast experiencing a housing crisis at unprecedented levels. \nBetter Together Housing is a women-led program designed to help connect women to help find housing solutions together. It is for those who have a home to share\, are looking for a house to share or are interested in learning and connecting with like-minded women. \nCome join us for a coffee and get together in Nambour – to share ideas around supporting local women in finding housing solutions.\nWhen: Tuesday 20th of January 9:30am-12:30pm\nWhere: Namba Meeting Place – Ground Floor of the Sunshine Coast Council Eddie De Vere Building\, corner of Currie and Bury Streets (venue entrance via Bury Street)\nRSVP is essential by emailing us or clicking going below by Monday 19th January 2026. \nCome along for a cuppa and a chance to meet other Better Together members. \nThank you!
URL:https://bettertogetherhousing.com.au/event/nambour-coffee-chat-20-01-2026/
LOCATION:Namba meeting place\, corner of Currie and Bury Streets\, nambour\, QLD\, 4564\, Australia
CATEGORIES:Coffee Chats
ATTACH;FMTTYPE=image/png:https://bettertogetherhousing.com.au/wp-content/uploads/2026/01/20.1-Nambour-Coffee-chat-Web.png
ORGANIZER;CN="Better Together Housing":MAILTO:info@bettertogetherhousing.com.au
END:VEVENT
BEGIN:VEVENT
DTSTART;TZID=UTC:20240909T101500
DTEND;TZID=UTC:20240909T111500
DTSTAMP:20260420T015842
CREATED:20240726T012545Z
LAST-MODIFIED:20240919T032004Z
UID:1824-1725876900-1725880500@bettertogetherhousing.com.au
SUMMARY:Maroochydore Get it Together 9/09/2024
DESCRIPTION:Better Together Housing is a program designed for women\, by women. It brings women over 55 together in a safe and secure way to find shared housing. \nSan Churro Chocolateria\, Shop GD091 – on the Riverwalk\, Sunshine Plaza\, 154-164 Horton Parade Maroochydore\, 4558\nRSVP is essential by emailing us or clicking going below by Friday 6th September 2024. \nCome along for a cuppa and a chance to meet other Better Together members. \nGet it Togethers are for existing members to meet and consider sharing housing\, so please RSVP if you’re bringing a friend by emailing us at: info@bettertogetherhousing.com.au with the following details: \nName:\nEmail address:\nMobile number:\nAddress: \nThank you!
URL:https://bettertogetherhousing.com.au/event/maroochydore-get-it-together-9-09-2024-2/
LOCATION:San Churro Chocolateria Maroochydore\, Sunshine Plaza\, Horton Parade\, Maroochydore\, QLD\, 4558
CATEGORIES:Get it Togethers
ORGANIZER;CN="Better Together Housing":MAILTO:info@bettertogetherhousing.com.au
END:VEVENT
END:VCALENDAR