BEGIN:VCALENDAR
VERSION:2.0
PRODID:-//Better Together Housing - ECPv6.15.17.1//NONSGML v1.0//EN
CALSCALE:GREGORIAN
METHOD:PUBLISH
X-WR-CALNAME:Better Together Housing
X-ORIGINAL-URL:https://bettertogetherhousing.com.au
X-WR-CALDESC:Events for Better Together Housing
REFRESH-INTERVAL;VALUE=DURATION:PT1H
X-Robots-Tag:noindex
X-PUBLISHED-TTL:PT1H
BEGIN:VTIMEZONE
TZID:Australia/Brisbane
BEGIN:STANDARD
TZOFFSETFROM:+1000
TZOFFSETTO:+1000
TZNAME:AEST
DTSTART:20250101T000000
END:STANDARD
END:VTIMEZONE
BEGIN:VEVENT
DTSTART;TZID=Australia/Brisbane:20260326T093000
DTEND;TZID=Australia/Brisbane:20260326T113000
DTSTAMP:20260420T024744
CREATED:20260306T071717Z
LAST-MODIFIED:20260306T071717Z
UID:3717-1774517400-1774524600@bettertogetherhousing.com.au
SUMMARY:Brisbane - Chermside - Get it Together 26/03/2026
DESCRIPTION:DID YOU KNOW – women over 55 years old are the fastest growing cohort of people experiencing homelessness in Australia with the Sunshine Coast experiencing a housing crisis at unprecedented levels. \nBetter Together Housing is a women-led program designed to help connect women to help find housing solutions together. It is for those who have a home to share\, are looking for a house to share or are interested in learning and connecting with like-minded women. \nCome join us for a coffee and get together in Chermside – to share ideas around supporting local women in finding housing solutions.\nWhen: Thursday\, 26 March 9:30am to 11:30am\nWhere: Chermside Library Meeting room 3\, 375 Hamilton Rd\, Chermside\nRSVP is essential by emailing us or clicking going below by Wednesday 25 March 2026. \nCome along for a cuppa and a chance to meet other Better Together members. \nThank you!
URL:https://bettertogetherhousing.com.au/event/brisbane-chermside-get-it-together-26-03-2026/
CATEGORIES:Get it Togethers
ATTACH;FMTTYPE=image/png:https://bettertogetherhousing.com.au/wp-content/uploads/2026/03/Website-Square-4.png
ORGANIZER;CN="Better Together Housing":MAILTO:info@bettertogetherhousing.com.au
END:VEVENT
BEGIN:VEVENT
DTSTART;TZID=Australia/Brisbane:20260326T100000
DTEND;TZID=Australia/Brisbane:20260326T120000
DTSTAMP:20260420T024744
CREATED:20260323T233821Z
LAST-MODIFIED:20260323T233821Z
UID:3743-1774519200-1774526400@bettertogetherhousing.com.au
SUMMARY:Caloundra Get it Together 26/03/2026
DESCRIPTION:DID YOU KNOW – women over 55 years old are the fastest growing cohort of people experiencing homelessness in Australia with the Sunshine Coast experiencing a housing crisis at unprecedented levels. \nBetter Together Housing is a women-led program designed to help connect women to help find housing solutions together. It is for those who have a home to share\, are looking for a house to share or are interested in learning and connecting with like-minded women. \nCome join us for a coffee and get together in Caloundra – to share ideas around supporting local women in finding housing solutions.\nWhen: Thursday 26th of March 10:00am-12:00pm\nWhere: Caloundra Library – 1 Omrah Avenue\, Caloundra\, 4551\nRSVP is essential by emailing us or clicking going below by Wednesday 25th March 2026. \nCome along for a cuppa and a chance to meet other Better Together members. \nThank you!
URL:https://bettertogetherhousing.com.au/event/caloundra-get-it-together-26-03-2026/
LOCATION:Caloundra Library\, 1 Omrah Avenue\, Caloundra\, QLD\, 4551\, Australia
CATEGORIES:Get it Togethers
ATTACH;FMTTYPE=image/png:https://bettertogetherhousing.com.au/wp-content/uploads/2026/03/Website-1.png
ORGANIZER;CN="Better Together Housing":MAILTO:info@bettertogetherhousing.com.au
END:VEVENT
END:VCALENDAR