BEGIN:VCALENDAR
VERSION:2.0
PRODID:-//Better Together Housing - ECPv6.15.17.1//NONSGML v1.0//EN
CALSCALE:GREGORIAN
METHOD:PUBLISH
X-ORIGINAL-URL:https://bettertogetherhousing.com.au
X-WR-CALDESC:Events for Better Together Housing
REFRESH-INTERVAL;VALUE=DURATION:PT1H
X-Robots-Tag:noindex
X-PUBLISHED-TTL:PT1H
BEGIN:VTIMEZONE
TZID:Australia/Brisbane
BEGIN:STANDARD
TZOFFSETFROM:+1000
TZOFFSETTO:+1000
TZNAME:AEST
DTSTART:20250101T000000
END:STANDARD
END:VTIMEZONE
BEGIN:VEVENT
DTSTART;TZID=Australia/Brisbane:20260302T090000
DTEND;TZID=Australia/Brisbane:20260302T120000
DTSTAMP:20260420T091136
CREATED:20260211T033303Z
LAST-MODIFIED:20260211T033303Z
UID:3593-1772442000-1772452800@bettertogetherhousing.com.au
SUMMARY:International Women's Day Morning Tea
DESCRIPTION:
URL:https://bettertogetherhousing.com.au/event/international-womens-day-morning-tea/
LOCATION:Bellvista Meeting Place\, 18 Lomond Crescent\, Caloundra West\, Australia
CATEGORIES:Community Events
ATTACH;FMTTYPE=image/png:https://bettertogetherhousing.com.au/wp-content/uploads/2026/02/IWD-SC-Invite-2026-scaled.png
END:VEVENT
END:VCALENDAR